BEGIN:VCALENDAR
VERSION:2.0
PRODID:-//Prison Fellowship Canada - ECPv6.15.17.1//NONSGML v1.0//EN
CALSCALE:GREGORIAN
METHOD:PUBLISH
X-ORIGINAL-URL:https://prisonfellowship.ca
X-WR-CALDESC:Events for Prison Fellowship Canada
REFRESH-INTERVAL;VALUE=DURATION:PT1H
X-Robots-Tag:noindex
X-PUBLISHED-TTL:PT1H
BEGIN:VTIMEZONE
TZID:UTC
BEGIN:STANDARD
TZOFFSETFROM:+0000
TZOFFSETTO:+0000
TZNAME:UTC
DTSTART:20250101T000000
END:STANDARD
END:VTIMEZONE
BEGIN:VEVENT
DTSTART;VALUE=DATE:20260403
DTEND;VALUE=DATE:20260404
DTSTAMP:20260425T230530
CREATED:20260320T182210Z
LAST-MODIFIED:20260320T182210Z
UID:49922-1775174400-1775260799@prisonfellowship.ca
SUMMARY:The Cross Before the Crown
DESCRIPTION:We don’t discount that our lives can and will consist of difficult things\, but we pray for the ability to set our gaze forward as\nwe look ahead to the hope set before us\, just as Jesus did. May the Lord give us a perspective that helps us to remember that suffering isn’t the end of our stories.
URL:https://prisonfellowship.ca/event/the-cross-before-the-crown/
CATEGORIES:Prayer Calendar
END:VEVENT
END:VCALENDAR