BEGIN:VCALENDAR
VERSION:2.0
PRODID:-//Prison Fellowship Canada - ECPv6.15.17.1//NONSGML v1.0//EN
CALSCALE:GREGORIAN
METHOD:PUBLISH
X-WR-CALNAME:Prison Fellowship Canada
X-ORIGINAL-URL:https://prisonfellowship.ca
X-WR-CALDESC:Events for Prison Fellowship Canada
REFRESH-INTERVAL;VALUE=DURATION:PT1H
X-Robots-Tag:noindex
X-PUBLISHED-TTL:PT1H
BEGIN:VTIMEZONE
TZID:UTC
BEGIN:STANDARD
TZOFFSETFROM:+0000
TZOFFSETTO:+0000
TZNAME:UTC
DTSTART:20250101T000000
END:STANDARD
END:VTIMEZONE
BEGIN:VEVENT
DTSTART;VALUE=DATE:20260422
DTEND;VALUE=DATE:20260423
DTSTAMP:20260422T020648
CREATED:20260320T183310Z
LAST-MODIFIED:20260320T183310Z
UID:49960-1776816000-1776902399@prisonfellowship.ca
SUMMARY:The Families of Prisoners
DESCRIPTION:We take a moment to remember the weight of a sentence that is felt by the families of prisoners who must also journey through\na season of incarceration without a loved one. We pray that their hearts would find comfort through faith and connection to local church communities for support.
URL:https://prisonfellowship.ca/event/the-families-of-prisoners/
CATEGORIES:Prayer Calendar
END:VEVENT
END:VCALENDAR