BEGIN:VCALENDAR
VERSION:2.0
PRODID:-//Prison Fellowship Canada - ECPv6.15.17.1//NONSGML v1.0//EN
CALSCALE:GREGORIAN
METHOD:PUBLISH
X-WR-CALNAME:Prison Fellowship Canada
X-ORIGINAL-URL:https://prisonfellowship.ca
X-WR-CALDESC:Events for Prison Fellowship Canada
REFRESH-INTERVAL;VALUE=DURATION:PT1H
X-Robots-Tag:noindex
X-PUBLISHED-TTL:PT1H
BEGIN:VTIMEZONE
TZID:UTC
BEGIN:STANDARD
TZOFFSETFROM:+0000
TZOFFSETTO:+0000
TZNAME:UTC
DTSTART:20250101T000000
END:STANDARD
END:VTIMEZONE
BEGIN:VEVENT
DTSTART;VALUE=DATE:20260517
DTEND;VALUE=DATE:20260518
DTSTAMP:20260426T002128
CREATED:20260420T193220Z
LAST-MODIFIED:20260420T193220Z
UID:50132-1778976000-1779062399@prisonfellowship.ca
SUMMARY:In-Prison Openings
DESCRIPTION:We pray that the Holy Spirit will raise up and affirm an abundance of mature volunteers that help us to fill every open in-prison program slot across Canada. We pray that there will be no open program slots lacking a properly trained and ready-to-serve volunteer.
URL:https://prisonfellowship.ca/event/in-prison-openings/
CATEGORIES:Prayer Calendar
END:VEVENT
END:VCALENDAR