BEGIN:VCALENDAR
VERSION:2.0
PRODID:-//Prison Fellowship Canada - ECPv6.15.17.1//NONSGML v1.0//EN
CALSCALE:GREGORIAN
METHOD:PUBLISH
X-WR-CALNAME:Prison Fellowship Canada
X-ORIGINAL-URL:https://prisonfellowship.ca
X-WR-CALDESC:Events for Prison Fellowship Canada
REFRESH-INTERVAL;VALUE=DURATION:PT1H
X-Robots-Tag:noindex
X-PUBLISHED-TTL:PT1H
BEGIN:VTIMEZONE
TZID:UTC
BEGIN:STANDARD
TZOFFSETFROM:+0000
TZOFFSETTO:+0000
TZNAME:UTC
DTSTART:20250101T000000
END:STANDARD
END:VTIMEZONE
BEGIN:VEVENT
DTSTART;VALUE=DATE:20260524
DTEND;VALUE=DATE:20260525
DTSTAMP:20260426T002124
CREATED:20260420T193543Z
LAST-MODIFIED:20260420T193543Z
UID:50146-1779580800-1779667199@prisonfellowship.ca
SUMMARY:Creative Wisdom
DESCRIPTION:We ask the Holy Spirit to invigorate our marketing team with creative vision and wisdom for the year ahead. We ask for inspiration in design\, in planning\, in new ways to communicate the breadth of our work\, in theming\, in execution and in rest. May the creative wisdom of God flow through us.
URL:https://prisonfellowship.ca/event/creative-wisdom/
CATEGORIES:Prayer Calendar
END:VEVENT
END:VCALENDAR