BEGIN:VCALENDAR
VERSION:2.0
PRODID:-//Prison Fellowship Canada - ECPv6.15.17.1//NONSGML v1.0//EN
CALSCALE:GREGORIAN
METHOD:PUBLISH
X-WR-CALNAME:Prison Fellowship Canada
X-ORIGINAL-URL:https://prisonfellowship.ca
X-WR-CALDESC:Events for Prison Fellowship Canada
REFRESH-INTERVAL;VALUE=DURATION:PT1H
X-Robots-Tag:noindex
X-PUBLISHED-TTL:PT1H
BEGIN:VTIMEZONE
TZID:UTC
BEGIN:STANDARD
TZOFFSETFROM:+0000
TZOFFSETTO:+0000
TZNAME:UTC
DTSTART:20250101T000000
END:STANDARD
END:VTIMEZONE
BEGIN:VEVENT
DTSTART;VALUE=DATE:20260414
DTEND;VALUE=DATE:20260415
DTSTAMP:20260420T193002
CREATED:20260320T182937Z
LAST-MODIFIED:20260320T182937Z
UID:49944-1776124800-1776211199@prisonfellowship.ca
SUMMARY:Bible Partners
DESCRIPTION:We thank the Lord for the fruitful partnership with the Canadian Bible Society and their work to provide Bibles to prisoner-graduates of PFC programs. We pray that the Lord continues to supply for their every need in the way of bringing God’s Word to prisoners.
URL:https://prisonfellowship.ca/event/bible-partners/
CATEGORIES:Prayer Calendar
END:VEVENT
BEGIN:VEVENT
DTSTART;VALUE=DATE:20260415
DTEND;VALUE=DATE:20260416
DTSTAMP:20260420T193002
CREATED:20260320T183001Z
LAST-MODIFIED:20260320T183001Z
UID:49946-1776211200-1776297599@prisonfellowship.ca
SUMMARY:Bridgecare Volunteers
DESCRIPTION:We continue to pray that the Holy Spirit will raise up mature volunteers who know how to relate to prisoners well while offering spiritual guidance and mentorship along the way. We pray that every key city where prisoners are returning is flooded with passionate Bridgecare volunteers.
URL:https://prisonfellowship.ca/event/bridgecare-volunteers/
CATEGORIES:Prayer Calendar
END:VEVENT
BEGIN:VEVENT
DTSTART;VALUE=DATE:20260416
DTEND;VALUE=DATE:20260417
DTSTAMP:20260420T193002
CREATED:20260320T183038Z
LAST-MODIFIED:20260320T183038Z
UID:49948-1776297600-1776383999@prisonfellowship.ca
SUMMARY:PFC By Phone Volunteers
DESCRIPTION:We ask the Lord to raise up many specialized bilingual volunteers to serve on the PFC by Phone lines who can field a larger audience of callers without requiring double the efforts for each. We pray over the conversations on the line and ask that the Holy Spirit is guiding each one.
URL:https://prisonfellowship.ca/event/pfc-by-phone-volunteers/
CATEGORIES:Prayer Calendar
END:VEVENT
BEGIN:VEVENT
DTSTART;VALUE=DATE:20260417
DTEND;VALUE=DATE:20260418
DTSTAMP:20260420T193002
CREATED:20260320T183105Z
LAST-MODIFIED:20260320T183105Z
UID:49950-1776384000-1776470399@prisonfellowship.ca
SUMMARY:Faith & Justice Volunteers
DESCRIPTION:We ask the Lord to send us Spirit-filled volunteers who are especially gifted in program facilitation. We really want to see these programs come alive for participants and recognize the difference that a gifted volunteer can make. We ask the Lord to raise up volunteers with group facilitation skills.
URL:https://prisonfellowship.ca/event/faith-justice-volunteers/
CATEGORIES:Prayer Calendar
END:VEVENT
BEGIN:VEVENT
DTSTART;VALUE=DATE:20260418
DTEND;VALUE=DATE:20260419
DTSTAMP:20260420T193002
CREATED:20260320T183128Z
LAST-MODIFIED:20260320T183128Z
UID:49952-1776470400-1776556799@prisonfellowship.ca
SUMMARY:Art & Imagination
DESCRIPTION:We ask the Lord to stir up within us the ability to bring marketing strategies together in different pieces through creative theming. We pray for our team to continue to develop an eye that acutely recognizes how to pull various elements together while cohesively rolling out design to multiple platforms.
URL:https://prisonfellowship.ca/event/art-imagination/
CATEGORIES:Prayer Calendar
END:VEVENT
BEGIN:VEVENT
DTSTART;VALUE=DATE:20260419
DTEND;VALUE=DATE:20260420
DTSTAMP:20260420T193002
CREATED:20260320T183150Z
LAST-MODIFIED:20260320T183150Z
UID:49954-1776556800-1776643199@prisonfellowship.ca
SUMMARY:Staff Development
DESCRIPTION:We pray for all of our national PFC staff and ask God to continue to liberally fill us with His Holy Spirit. Let us be renewed each day into the people He has called and created us to be in our various roles. We ask the Lord to cut away anything unfruitful to our calling from within us and to cultivate within us that which brings Him the greatest glory through our labours
URL:https://prisonfellowship.ca/event/staff-development/
CATEGORIES:Prayer Calendar
END:VEVENT
BEGIN:VEVENT
DTSTART;VALUE=DATE:20260420
DTEND;VALUE=DATE:20260421
DTSTAMP:20260420T193002
CREATED:20260320T183211Z
LAST-MODIFIED:20260320T183211Z
UID:49956-1776643200-1776729599@prisonfellowship.ca
SUMMARY:Volunteer Growth
DESCRIPTION:We thank the Lord for the dedicated service of those He set apart for this ministry. We ask the Lord to continue to cultivate within our volunteers an ear to hear clearly from Him\, a heart that reflects His own\, and a character that demonstrates wisdom in service in this complex work.
URL:https://prisonfellowship.ca/event/volunteer-growth/
CATEGORIES:Prayer Calendar
END:VEVENT
BEGIN:VEVENT
DTSTART;VALUE=DATE:20260421
DTEND;VALUE=DATE:20260422
DTSTAMP:20260420T193002
CREATED:20260320T183232Z
LAST-MODIFIED:20260320T183232Z
UID:49958-1776729600-1776815999@prisonfellowship.ca
SUMMARY:Angel Tree Camps
DESCRIPTION:We ask the Lord for favour with camps across Canada to prioritize registrations for the children of prisoners to help break the cycle of crime within justice-affected families. We pray that camps will be so adequately supported in their own needs that they can prioritize spots for vulnerable children in need of these memorable experiences.
URL:https://prisonfellowship.ca/event/angel-tree-camps/
CATEGORIES:Prayer Calendar
END:VEVENT
BEGIN:VEVENT
DTSTART;VALUE=DATE:20260422
DTEND;VALUE=DATE:20260423
DTSTAMP:20260420T193002
CREATED:20260320T183310Z
LAST-MODIFIED:20260320T183310Z
UID:49960-1776816000-1776902399@prisonfellowship.ca
SUMMARY:The Families of Prisoners
DESCRIPTION:We take a moment to remember the weight of a sentence that is felt by the families of prisoners who must also journey through\na season of incarceration without a loved one. We pray that their hearts would find comfort through faith and connection to local church communities for support.
URL:https://prisonfellowship.ca/event/the-families-of-prisoners/
CATEGORIES:Prayer Calendar
END:VEVENT
BEGIN:VEVENT
DTSTART;VALUE=DATE:20260423
DTEND;VALUE=DATE:20260424
DTSTAMP:20260420T193002
CREATED:20260320T183341Z
LAST-MODIFIED:20260320T183341Z
UID:49962-1776902400-1776988799@prisonfellowship.ca
SUMMARY:Time-Stewardship
DESCRIPTION:Though we are never lacking in work\, we continue to pray for every facet of our ministry and ask the Lord to order our steps and our time each day so that we can be the most pleasing and fruitful to Him in all of our efforts. Give us the wisdom to know how to best steward the time given to us\, Jesus.
URL:https://prisonfellowship.ca/event/time-stewardship/
CATEGORIES:Prayer Calendar
END:VEVENT
BEGIN:VEVENT
DTSTART;VALUE=DATE:20260424
DTEND;VALUE=DATE:20260425
DTSTAMP:20260420T193002
CREATED:20260320T183414Z
LAST-MODIFIED:20260320T183414Z
UID:49964-1776988800-1777075199@prisonfellowship.ca
SUMMARY:Angels At Work
DESCRIPTION:We pray and ask the Lord to surround this ministry with the work of angels at every step. There is so much that we all are unaware of daily at work in our lives\, or don’t have the reach to attend to. We ask the Lord to send us angelic support to forge ahead in all He has placed upon our hearts to pursue.
URL:https://prisonfellowship.ca/event/angels-at-work/
CATEGORIES:Prayer Calendar
END:VEVENT
BEGIN:VEVENT
DTSTART;VALUE=DATE:20260425
DTEND;VALUE=DATE:20260426
DTSTAMP:20260420T193002
CREATED:20260320T183443Z
LAST-MODIFIED:20260320T183443Z
UID:49966-1777075200-1777161599@prisonfellowship.ca
SUMMARY:Accounting Transition
DESCRIPTION:We lift up our friend\, brother and PFC Accountant as he transitions into new adventures. We ask the Lord to give him rest and to fill his days with joy and purpose. We thank the Lord for highlighting a new contact for us to fill his shoes and pray for a smooth transition.
URL:https://prisonfellowship.ca/event/accounting-transition/
CATEGORIES:Prayer Calendar
END:VEVENT
BEGIN:VEVENT
DTSTART;VALUE=DATE:20260426
DTEND;VALUE=DATE:20260427
DTSTAMP:20260420T193002
CREATED:20260320T183515Z
LAST-MODIFIED:20260320T183835Z
UID:49968-1777161600-1777247999@prisonfellowship.ca
SUMMARY:The Presence of God
DESCRIPTION:Lord\, we welcome you into prisons\, and ask you to open the hearts of prisoners across Canada to receive You. We pray that in learning of You\, our inner being will overflow naturally into worship in each of our sessions and Your Name would be exalted among prisoners.
URL:https://prisonfellowship.ca/event/the-presence-of-god/
CATEGORIES:Prayer Calendar
END:VEVENT
BEGIN:VEVENT
DTSTART;VALUE=DATE:20260427
DTEND;VALUE=DATE:20260428
DTSTAMP:20260420T193002
CREATED:20260320T183557Z
LAST-MODIFIED:20260320T183557Z
UID:49970-1777248000-1777334399@prisonfellowship.ca
SUMMARY:Technical Developments
DESCRIPTION:In this next season of PFC ministry\, we pray that we would begin to see new ways in which the investment of the past years begins abounding in manifold blessings over the way we manage each program area. Let us see the glory of our trust in You through our maturing workflow\, Lord.
URL:https://prisonfellowship.ca/event/technical-developments/
CATEGORIES:Prayer Calendar
END:VEVENT
BEGIN:VEVENT
DTSTART;VALUE=DATE:20260428
DTEND;VALUE=DATE:20260429
DTSTAMP:20260420T193002
CREATED:20260320T183631Z
LAST-MODIFIED:20260320T183631Z
UID:49972-1777334400-1777420799@prisonfellowship.ca
SUMMARY:The Calling
DESCRIPTION:Lord\, we know that You intimately know our every need. We ask you to draw people who are called and set apart toward us\, who are adequately equipped and available to fulfill a real calling to the ministry. Help our leadership team to recognize them and to find real and substantial confirmation to move forward with them.
URL:https://prisonfellowship.ca/event/the-calling/
CATEGORIES:Prayer Calendar
END:VEVENT
BEGIN:VEVENT
DTSTART;VALUE=DATE:20260429
DTEND;VALUE=DATE:20260430
DTSTAMP:20260420T193002
CREATED:20260320T183658Z
LAST-MODIFIED:20260320T183658Z
UID:49974-1777420800-1777507199@prisonfellowship.ca
SUMMARY:In-Prison Programs
DESCRIPTION:We thank the Lord for all of the weekly Bible studies that are taking place in prisons across Canada. We ask the Lord to etch out new places\, times\, and institutions for PFC to partner in\, this year. We pray that we are always amply supplied for the needs of in-prison volunteers and time slots for them to serve in.
URL:https://prisonfellowship.ca/event/in-prison-programs/
CATEGORIES:Prayer Calendar
END:VEVENT
BEGIN:VEVENT
DTSTART;VALUE=DATE:20260430
DTEND;VALUE=DATE:20260501
DTSTAMP:20260420T193002
CREATED:20260320T183727Z
LAST-MODIFIED:20260320T183727Z
UID:49976-1777507200-1777593599@prisonfellowship.ca
SUMMARY:Supportive Measures
DESCRIPTION:We pray and ask the Lord to go before us and raise up stabilizing financial support for the ministry in every province across Canada. We pray that every role we need to grow the ministry is supplied through pillars of financial support to employ each one. Establish us\, Lord.
URL:https://prisonfellowship.ca/event/supportive-measures/
CATEGORIES:Prayer Calendar
END:VEVENT
BEGIN:VEVENT
DTSTART;VALUE=DATE:20260501
DTEND;VALUE=DATE:20260502
DTSTAMP:20260420T193002
CREATED:20260420T192411Z
LAST-MODIFIED:20260420T192411Z
UID:50100-1777593600-1777679999@prisonfellowship.ca
SUMMARY:Waiting for Camp
DESCRIPTION:We ask the Holy Spirit to fan into flames the hope of each child enrolled for Angel Tree Camping in 202May they anticipate goodness; may they anticipate joy\, and may the wonderful things that they don’t even know to anticipate yet be a part of their holy experience this summer.
URL:https://prisonfellowship.ca/event/waiting-for-camp/
CATEGORIES:Prayer Calendar
END:VEVENT
BEGIN:VEVENT
DTSTART;VALUE=DATE:20260502
DTEND;VALUE=DATE:20260503
DTSTAMP:20260420T193002
CREATED:20260420T192445Z
LAST-MODIFIED:20260420T192445Z
UID:50102-1777680000-1777766399@prisonfellowship.ca
SUMMARY:Female Volunteers - PFC By Phone
DESCRIPTION:We ask the Lord to direct the steps of many faithful women of God from all across Canada toward prison ministry to specifically meet the growing need for female volunteers who can serve on both male and female phone lines. We pray that every outstanding gap is filled.
URL:https://prisonfellowship.ca/event/female-volunteers-pfc-by-phone/
CATEGORIES:Prayer Calendar
END:VEVENT
BEGIN:VEVENT
DTSTART;VALUE=DATE:20260503
DTEND;VALUE=DATE:20260504
DTSTAMP:20260420T193002
CREATED:20260420T192515Z
LAST-MODIFIED:20260420T192515Z
UID:50104-1777766400-1777852799@prisonfellowship.ca
SUMMARY:Summer Jobs - Intern
DESCRIPTION:We thank the Lord for the support of the Canada Summer Jobs grant and pray that the Holy Spirit will help us to find the right candidate that God had intended to benefit from this experiential employment opportunity. We pray God’s blessings and protection over them and ask the Lord to walk with them and help them to find purpose in their work.
URL:https://prisonfellowship.ca/event/summer-jobs-intern/
CATEGORIES:Prayer Calendar
END:VEVENT
BEGIN:VEVENT
DTSTART;VALUE=DATE:20260504
DTEND;VALUE=DATE:20260505
DTSTAMP:20260420T193002
CREATED:20260420T192539Z
LAST-MODIFIED:20260420T192539Z
UID:50106-1777852800-1777939199@prisonfellowship.ca
SUMMARY:Walking the Good Path
DESCRIPTION:We continue to pray for open doors to this seeker friendly program in institutions across Canada and ask the Lord to help Chaplains and Program Staff see the value it lends in helping the incarcerated population to form their identities in the Saviour.
URL:https://prisonfellowship.ca/event/walking-the-good-path-2/
CATEGORIES:Prayer Calendar
END:VEVENT
BEGIN:VEVENT
DTSTART;VALUE=DATE:20260505
DTEND;VALUE=DATE:20260506
DTSTAMP:20260420T193002
CREATED:20260420T192607Z
LAST-MODIFIED:20260420T192607Z
UID:50108-1777939200-1778025599@prisonfellowship.ca
SUMMARY:The Forgiveness Journey
DESCRIPTION:We thank the Lord for the impact that this crucial program has on justice-affected populations. We continue to pray for it’s fruitfulness for every participant who has the opportunity to encounter it and think through the different aspects of God’s forgiveness.
URL:https://prisonfellowship.ca/event/the-forgiveness-journey-2/
CATEGORIES:Prayer Calendar
END:VEVENT
BEGIN:VEVENT
DTSTART;VALUE=DATE:20260506
DTEND;VALUE=DATE:20260507
DTSTAMP:20260420T193002
CREATED:20260420T192638Z
LAST-MODIFIED:20260420T192638Z
UID:50110-1778025600-1778111999@prisonfellowship.ca
SUMMARY:The Re-Entry Journey
DESCRIPTION:We thank the Lord for the many participants who continue to find this preparation course for community integration meaningful. We ask the Holy Spirit to multiply the impact of revelation and preparedness for every participant to experience the stabilizing force of God’s presence in their reintegration.
URL:https://prisonfellowship.ca/event/the-re-entry-journey-2/
CATEGORIES:Prayer Calendar
END:VEVENT
BEGIN:VEVENT
DTSTART;VALUE=DATE:20260507
DTEND;VALUE=DATE:20260508
DTSTAMP:20260420T193002
CREATED:20260420T192705Z
LAST-MODIFIED:20260420T192705Z
UID:50112-1778112000-1778198399@prisonfellowship.ca
SUMMARY:Father to the Fatherless
DESCRIPTION:We pray that the Holy Spirit will create new open doors for us to see this powerful new program that explores the Father’s unconditional love. We pray that as participants explore God’s graceful response to those near and far that it challenges and brings greater restoration.
URL:https://prisonfellowship.ca/event/father-to-the-fatherless-2/
CATEGORIES:Prayer Calendar
END:VEVENT
BEGIN:VEVENT
DTSTART;VALUE=DATE:20260508
DTEND;VALUE=DATE:20260509
DTSTAMP:20260420T193002
CREATED:20260420T192738Z
LAST-MODIFIED:20260420T192738Z
UID:50114-1778198400-1778284799@prisonfellowship.ca
SUMMARY:A New Season at PFC
DESCRIPTION:We lift up our PFC national head office staff as we embark on a new journey ahead to a new location. May the Lord help each of us to navigate this transition reflectively\, recognizing the deep and wonderful affirmations that God has prepared for us along the way and helping us to settle into our new home with confidence and stability.
URL:https://prisonfellowship.ca/event/a-new-season-at-pfc/
CATEGORIES:Prayer Calendar
END:VEVENT
BEGIN:VEVENT
DTSTART;VALUE=DATE:20260509
DTEND;VALUE=DATE:20260510
DTSTAMP:20260420T193002
CREATED:20260420T192846Z
LAST-MODIFIED:20260420T192846Z
UID:50116-1778284800-1778371199@prisonfellowship.ca
SUMMARY:Joyful Gospel Choir
DESCRIPTION:We ask the Lord to be ever present with the choir members of Joyful Gospel Choir as they perform at Vanier Women’s Centre today. May the gospel resound in the lively music presented and may the residents of Vanier feel valued and loved as they enjoy this PFC event.
URL:https://prisonfellowship.ca/event/joyful-gospel-choir/
CATEGORIES:Prayer Calendar
END:VEVENT
BEGIN:VEVENT
DTSTART;VALUE=DATE:20260510
DTEND;VALUE=DATE:20260511
DTSTAMP:20260420T193002
CREATED:20260420T192916Z
LAST-MODIFIED:20260420T192916Z
UID:50118-1778371200-1778457599@prisonfellowship.ca
SUMMARY:Care for Caregivers
DESCRIPTION:We lift up a new PFC initiative in the works that lends support to Angel Tree caregivers and ask the Lord for His wisdom and guidance in developing a strong and meaningful support for this overlooked demographic. We pray for strong volunteer support when the time comes to roll out this new program.
URL:https://prisonfellowship.ca/event/care-for-caregivers-2/
CATEGORIES:Prayer Calendar
END:VEVENT
BEGIN:VEVENT
DTSTART;VALUE=DATE:20260511
DTEND;VALUE=DATE:20260512
DTSTAMP:20260420T193002
CREATED:20260420T192941Z
LAST-MODIFIED:20260420T192941Z
UID:50120-1778457600-1778543999@prisonfellowship.ca
SUMMARY:The Compassion of God
DESCRIPTION:We pray that our entire PFC community will be known to prisoners\, ex-prisoners\, their families and victims\, and to all of our community partners by one unmistakeable attribute: may we be known as people of deep and overflowing compassion.
URL:https://prisonfellowship.ca/event/the-compassion-of-god/
CATEGORIES:Prayer Calendar
END:VEVENT
END:VCALENDAR