BEGIN:VCALENDAR
VERSION:2.0
PRODID:-//Prison Fellowship Canada - ECPv6.15.17.1//NONSGML v1.0//EN
CALSCALE:GREGORIAN
METHOD:PUBLISH
X-ORIGINAL-URL:https://prisonfellowship.ca
X-WR-CALDESC:Events for Prison Fellowship Canada
REFRESH-INTERVAL;VALUE=DURATION:PT1H
X-Robots-Tag:noindex
X-PUBLISHED-TTL:PT1H
BEGIN:VTIMEZONE
TZID:UTC
BEGIN:STANDARD
TZOFFSETFROM:+0000
TZOFFSETTO:+0000
TZNAME:UTC
DTSTART:20250101T000000
END:STANDARD
END:VTIMEZONE
BEGIN:VEVENT
DTSTART;VALUE=DATE:20260530
DTEND;VALUE=DATE:20260531
DTSTAMP:20260426T042931
CREATED:20260420T193843Z
LAST-MODIFIED:20260420T193843Z
UID:50159-1780099200-1780185599@prisonfellowship.ca
SUMMARY:Bridgecare Directory Awareness
DESCRIPTION:We continue to pray that prisoners will find their way to PFC’s Bridgecare Directory resource through the 1-800 number as well as online. We pray for the continued resources to keep this directory as up-to-date as possible\, and for connections to all the local organizations supporting the breadth of needs for returning citizens.
URL:https://prisonfellowship.ca/event/bridgecare-directory-awareness/
CATEGORIES:Prayer Calendar
END:VEVENT
BEGIN:VEVENT
DTSTART;VALUE=DATE:20260531
DTEND;VALUE=DATE:20260601
DTSTAMP:20260426T042931
CREATED:20260420T193942Z
LAST-MODIFIED:20260420T193942Z
UID:50161-1780185600-1780271999@prisonfellowship.ca
SUMMARY:Revival Within Prisons
DESCRIPTION:We continue to pray for an outpouring of the Holy Spirit in facilities nationwide. We pray to see entire institutions coming to know Jesus! May the Holy Spirit ignite a heart-desire in prisoners for worship and prayer\, and may we see more inmate led Bible studies organically spreading across Canada.
URL:https://prisonfellowship.ca/event/revival-within-prisons/
CATEGORIES:Prayer Calendar
END:VEVENT
END:VCALENDAR