BEGIN:VCALENDAR
VERSION:2.0
PRODID:-//Prison Fellowship Canada - ECPv6.15.17.1//NONSGML v1.0//EN
CALSCALE:GREGORIAN
METHOD:PUBLISH
X-ORIGINAL-URL:https://prisonfellowship.ca
X-WR-CALDESC:Events for Prison Fellowship Canada
REFRESH-INTERVAL;VALUE=DURATION:PT1H
X-Robots-Tag:noindex
X-PUBLISHED-TTL:PT1H
BEGIN:VTIMEZONE
TZID:UTC
BEGIN:STANDARD
TZOFFSETFROM:+0000
TZOFFSETTO:+0000
TZNAME:UTC
DTSTART:20250101T000000
END:STANDARD
END:VTIMEZONE
BEGIN:VEVENT
DTSTART;VALUE=DATE:20260330
DTEND;VALUE=DATE:20260331
DTSTAMP:20260425T214035
CREATED:20260224T185017Z
LAST-MODIFIED:20260224T185017Z
UID:49758-1774828800-1774915199@prisonfellowship.ca
SUMMARY:The Sound of Clarity
DESCRIPTION:We pray that as we administratively prepare to launch different programs throughout the year\, that the Lord will give us wisdom to prepare each part of the process so that it can be released with clarity and understanding. We pray for wisdom also in creating powerful communication to our network that expresses the heart of what we do.
URL:https://prisonfellowship.ca/event/the-sound-of-clarity/
CATEGORIES:Prayer Calendar
END:VEVENT
END:VCALENDAR