BEGIN:VCALENDAR
VERSION:2.0
PRODID:-//Prison Fellowship Canada - ECPv6.15.17.1//NONSGML v1.0//EN
CALSCALE:GREGORIAN
METHOD:PUBLISH
X-ORIGINAL-URL:https://prisonfellowship.ca
X-WR-CALDESC:Events for Prison Fellowship Canada
REFRESH-INTERVAL;VALUE=DURATION:PT1H
X-Robots-Tag:noindex
X-PUBLISHED-TTL:PT1H
BEGIN:VTIMEZONE
TZID:UTC
BEGIN:STANDARD
TZOFFSETFROM:+0000
TZOFFSETTO:+0000
TZNAME:UTC
DTSTART:20250101T000000
END:STANDARD
END:VTIMEZONE
BEGIN:VEVENT
DTSTART;VALUE=DATE:20260331
DTEND;VALUE=DATE:20260401
DTSTAMP:20260425T214032
CREATED:20260224T185051Z
LAST-MODIFIED:20260224T185051Z
UID:49760-1774915200-1775001599@prisonfellowship.ca
SUMMARY:A Posture of Prayer
DESCRIPTION:We thank the Lord for Christians everywhere who partner with us through times of dedicated prayer. We ask the Lord to continue to pour out revelation; to help us to see the things that can only be perceived through prayer\, and to release power in our pursuit of restoration.
URL:https://prisonfellowship.ca/event/a-posture-of-prayer/
CATEGORIES:Prayer Calendar
END:VEVENT
END:VCALENDAR