BEGIN:VCALENDAR
VERSION:2.0
PRODID:-//Prison Fellowship Canada - ECPv6.15.17.1//NONSGML v1.0//EN
CALSCALE:GREGORIAN
METHOD:PUBLISH
X-ORIGINAL-URL:https://prisonfellowship.ca
X-WR-CALDESC:Events for Prison Fellowship Canada
REFRESH-INTERVAL;VALUE=DURATION:PT1H
X-Robots-Tag:noindex
X-PUBLISHED-TTL:PT1H
BEGIN:VTIMEZONE
TZID:UTC
BEGIN:STANDARD
TZOFFSETFROM:+0000
TZOFFSETTO:+0000
TZNAME:UTC
DTSTART:20250101T000000
END:STANDARD
END:VTIMEZONE
BEGIN:VEVENT
DTSTART;VALUE=DATE:20260405
DTEND;VALUE=DATE:20260406
DTSTAMP:20260425T214026
CREATED:20260320T182259Z
LAST-MODIFIED:20260320T182259Z
UID:49926-1775347200-1775433599@prisonfellowship.ca
SUMMARY:Resurrection Power
DESCRIPTION:We pray that the same power that resurrected Jesus from the dead would be poured out over every dead thing that we encounter in the way of serving the risen Christ. May souls come alive\, hope be restored\, and faith be invigorated by the power of the Christ for the seasons ahead.
URL:https://prisonfellowship.ca/event/resurrection-power/
CATEGORIES:Prayer Calendar
END:VEVENT
END:VCALENDAR