BEGIN:VCALENDAR
VERSION:2.0
PRODID:-//Prison Fellowship Canada - ECPv6.15.17.1//NONSGML v1.0//EN
CALSCALE:GREGORIAN
METHOD:PUBLISH
X-ORIGINAL-URL:https://prisonfellowship.ca
X-WR-CALDESC:Events for Prison Fellowship Canada
REFRESH-INTERVAL;VALUE=DURATION:PT1H
X-Robots-Tag:noindex
X-PUBLISHED-TTL:PT1H
BEGIN:VTIMEZONE
TZID:UTC
BEGIN:STANDARD
TZOFFSETFROM:+0000
TZOFFSETTO:+0000
TZNAME:UTC
DTSTART:20250101T000000
END:STANDARD
END:VTIMEZONE
BEGIN:VEVENT
DTSTART;VALUE=DATE:20260406
DTEND;VALUE=DATE:20260407
DTSTAMP:20260425T214010
CREATED:20260320T182458Z
LAST-MODIFIED:20260320T182458Z
UID:49928-1775433600-1775519999@prisonfellowship.ca
SUMMARY:Joy & Thanksgiving
DESCRIPTION:We praise God that we have a living hope who is present with us; who endured every obstacle and overcame\, and whose very life now fills our being to live just as He did. May our minds be constantly renewed by this truth\, and our lives show forth the evidence of walking in step with the Spirit.
URL:https://prisonfellowship.ca/event/joy-thanksgiving/
CATEGORIES:Prayer Calendar
END:VEVENT
END:VCALENDAR