BEGIN:VCALENDAR
VERSION:2.0
PRODID:-//Prison Fellowship Canada - ECPv6.15.17.1//NONSGML v1.0//EN
CALSCALE:GREGORIAN
METHOD:PUBLISH
X-ORIGINAL-URL:https://prisonfellowship.ca
X-WR-CALDESC:Events for Prison Fellowship Canada
REFRESH-INTERVAL;VALUE=DURATION:PT1H
X-Robots-Tag:noindex
X-PUBLISHED-TTL:PT1H
BEGIN:VTIMEZONE
TZID:UTC
BEGIN:STANDARD
TZOFFSETFROM:+0000
TZOFFSETTO:+0000
TZNAME:UTC
DTSTART:20250101T000000
END:STANDARD
END:VTIMEZONE
BEGIN:VEVENT
DTSTART;VALUE=DATE:20260413
DTEND;VALUE=DATE:20260414
DTSTAMP:20260425T214020
CREATED:20260320T182906Z
LAST-MODIFIED:20260320T182906Z
UID:49942-1776038400-1776124799@prisonfellowship.ca
SUMMARY:Chaplain Partners
DESCRIPTION:We thank the Lord for the Chaplains who see the benefits of PFC programs and the crucial role that these programs play in curbing recidivism. We thank the Lord for the many Chaplains who are invested in seeing prisoners break the cycle of re-incarceration. We pray that Chaplains would find overflowing joy in their labours.
URL:https://prisonfellowship.ca/event/chaplain-partners/
CATEGORIES:Prayer Calendar
END:VEVENT
END:VCALENDAR