BEGIN:VCALENDAR
VERSION:2.0
PRODID:-//Prison Fellowship Canada - ECPv6.15.17.1//NONSGML v1.0//EN
CALSCALE:GREGORIAN
METHOD:PUBLISH
X-ORIGINAL-URL:https://prisonfellowship.ca
X-WR-CALDESC:Events for Prison Fellowship Canada
REFRESH-INTERVAL;VALUE=DURATION:PT1H
X-Robots-Tag:noindex
X-PUBLISHED-TTL:PT1H
BEGIN:VTIMEZONE
TZID:UTC
BEGIN:STANDARD
TZOFFSETFROM:+0000
TZOFFSETTO:+0000
TZNAME:UTC
DTSTART:20250101T000000
END:STANDARD
END:VTIMEZONE
BEGIN:VEVENT
DTSTART;VALUE=DATE:20260429
DTEND;VALUE=DATE:20260430
DTSTAMP:20260425T214010
CREATED:20260320T183658Z
LAST-MODIFIED:20260320T183658Z
UID:49974-1777420800-1777507199@prisonfellowship.ca
SUMMARY:In-Prison Programs
DESCRIPTION:We thank the Lord for all of the weekly Bible studies that are taking place in prisons across Canada. We ask the Lord to etch out new places\, times\, and institutions for PFC to partner in\, this year. We pray that we are always amply supplied for the needs of in-prison volunteers and time slots for them to serve in.
URL:https://prisonfellowship.ca/event/in-prison-programs/
CATEGORIES:Prayer Calendar
END:VEVENT
END:VCALENDAR