BEGIN:VCALENDAR
VERSION:2.0
PRODID:-//Prison Fellowship Canada - ECPv6.15.17.1//NONSGML v1.0//EN
CALSCALE:GREGORIAN
METHOD:PUBLISH
X-WR-CALNAME:Prison Fellowship Canada
X-ORIGINAL-URL:https://prisonfellowship.ca
X-WR-CALDESC:Events for Prison Fellowship Canada
REFRESH-INTERVAL;VALUE=DURATION:PT1H
X-Robots-Tag:noindex
X-PUBLISHED-TTL:PT1H
BEGIN:VTIMEZONE
TZID:UTC
BEGIN:STANDARD
TZOFFSETFROM:+0000
TZOFFSETTO:+0000
TZNAME:UTC
DTSTART:20250101T000000
END:STANDARD
END:VTIMEZONE
BEGIN:VEVENT
DTSTART;VALUE=DATE:20260512
DTEND;VALUE=DATE:20260513
DTSTAMP:20260425T230507
CREATED:20260420T193009Z
LAST-MODIFIED:20260420T193009Z
UID:50122-1778544000-1778630399@prisonfellowship.ca
SUMMARY:Mental Health Needs
DESCRIPTION:We thank the Lord for the many callers on the PFC by Phone line who find support through mental health decline by calling the line. We pray that when they speak\, our volunteers would be given the right words and wisdom from the Holy Spirit empowering them to navigate any and every situation.
URL:https://prisonfellowship.ca/event/mental-health-needs/
CATEGORIES:Prayer Calendar
END:VEVENT
END:VCALENDAR