BEGIN:VCALENDAR
VERSION:2.0
PRODID:-//Prison Fellowship Canada - ECPv6.15.17.1//NONSGML v1.0//EN
CALSCALE:GREGORIAN
METHOD:PUBLISH
X-WR-CALNAME:Prison Fellowship Canada
X-ORIGINAL-URL:https://prisonfellowship.ca
X-WR-CALDESC:Events for Prison Fellowship Canada
REFRESH-INTERVAL;VALUE=DURATION:PT1H
X-Robots-Tag:noindex
X-PUBLISHED-TTL:PT1H
BEGIN:VTIMEZONE
TZID:UTC
BEGIN:STANDARD
TZOFFSETFROM:+0000
TZOFFSETTO:+0000
TZNAME:UTC
DTSTART:20250101T000000
END:STANDARD
END:VTIMEZONE
BEGIN:VEVENT
DTSTART;VALUE=DATE:20260513
DTEND;VALUE=DATE:20260514
DTSTAMP:20260425T225125
CREATED:20260420T193034Z
LAST-MODIFIED:20260420T193034Z
UID:50124-1778630400-1778716799@prisonfellowship.ca
SUMMARY:Institutional Partners
DESCRIPTION:We pray that more federal and provincial institutions across Canada would see the powerful benefit of the Angel Tree Camping and Christmas programs and be amply supplied with the administrative support they need to include their prisoner populations in these programs.
URL:https://prisonfellowship.ca/event/institutional-partners/
CATEGORIES:Prayer Calendar
END:VEVENT
END:VCALENDAR