BEGIN:VCALENDAR
VERSION:2.0
PRODID:-//Prison Fellowship Canada - ECPv6.15.17.1//NONSGML v1.0//EN
CALSCALE:GREGORIAN
METHOD:PUBLISH
X-ORIGINAL-URL:https://prisonfellowship.ca
X-WR-CALDESC:Events for Prison Fellowship Canada
REFRESH-INTERVAL;VALUE=DURATION:PT1H
X-Robots-Tag:noindex
X-PUBLISHED-TTL:PT1H
BEGIN:VTIMEZONE
TZID:UTC
BEGIN:STANDARD
TZOFFSETFROM:+0000
TZOFFSETTO:+0000
TZNAME:UTC
DTSTART:20250101T000000
END:STANDARD
END:VTIMEZONE
BEGIN:VEVENT
DTSTART;VALUE=DATE:20260514
DTEND;VALUE=DATE:20260515
DTSTAMP:20260425T225201
CREATED:20260420T193100Z
LAST-MODIFIED:20260420T193100Z
UID:50126-1778716800-1778803199@prisonfellowship.ca
SUMMARY:Volunteer Clearance
DESCRIPTION:We continue to pray for PFC’s authority within institutions across Canada to increase and for the Lord to raise up mature and wise volunteers who can take up these positions as stable and secure representatives of the organization. Please help us support the work of our Chaplain partners in prison.
URL:https://prisonfellowship.ca/event/volunteer-clearance/
CATEGORIES:Prayer Calendar
END:VEVENT
END:VCALENDAR