BEGIN:VCALENDAR
VERSION:2.0
PRODID:-//Prison Fellowship Canada - ECPv6.15.17.1//NONSGML v1.0//EN
CALSCALE:GREGORIAN
METHOD:PUBLISH
X-WR-CALNAME:Prison Fellowship Canada
X-ORIGINAL-URL:https://prisonfellowship.ca
X-WR-CALDESC:Events for Prison Fellowship Canada
REFRESH-INTERVAL;VALUE=DURATION:PT1H
X-Robots-Tag:noindex
X-PUBLISHED-TTL:PT1H
BEGIN:VTIMEZONE
TZID:UTC
BEGIN:STANDARD
TZOFFSETFROM:+0000
TZOFFSETTO:+0000
TZNAME:UTC
DTSTART:20250101T000000
END:STANDARD
END:VTIMEZONE
BEGIN:VEVENT
DTSTART;VALUE=DATE:20260516
DTEND;VALUE=DATE:20260517
DTSTAMP:20260425T225129
CREATED:20260420T193150Z
LAST-MODIFIED:20260420T193150Z
UID:50130-1778889600-1778975999@prisonfellowship.ca
SUMMARY:Website Changes
DESCRIPTION:We thank the Lord for the meaningful work of our marketing team in transitioning our English and French website to a platform that allow for greater involvement in the upkeep of the pages. We pray that the Holy Spirit will inspire new ways in which we can benefit from this change in the months ahead.
URL:https://prisonfellowship.ca/event/website-changes/
CATEGORIES:Prayer Calendar
END:VEVENT
END:VCALENDAR