BEGIN:VCALENDAR
VERSION:2.0
PRODID:-//Prison Fellowship Canada - ECPv6.15.17.1//NONSGML v1.0//EN
CALSCALE:GREGORIAN
METHOD:PUBLISH
X-ORIGINAL-URL:https://prisonfellowship.ca
X-WR-CALDESC:Events for Prison Fellowship Canada
REFRESH-INTERVAL;VALUE=DURATION:PT1H
X-Robots-Tag:noindex
X-PUBLISHED-TTL:PT1H
BEGIN:VTIMEZONE
TZID:UTC
BEGIN:STANDARD
TZOFFSETFROM:+0000
TZOFFSETTO:+0000
TZNAME:UTC
DTSTART:20250101T000000
END:STANDARD
END:VTIMEZONE
BEGIN:VEVENT
DTSTART;VALUE=DATE:20260518
DTEND;VALUE=DATE:20260519
DTSTAMP:20260425T230528
CREATED:20260420T193250Z
LAST-MODIFIED:20260420T193250Z
UID:50134-1779062400-1779148799@prisonfellowship.ca
SUMMARY:A Prayer for Personal Growth
DESCRIPTION:As we pray for others\, we often recognize our own need for growth. May the Lord continue to cultivate within our entire PFC team the places that bear fruit pleasing to Him. And may He also cut away those areas in our lives that don’t bear fruit\, so that the fruitful areas may bear even more.
URL:https://prisonfellowship.ca/event/a-prayer-for-personal-growth/
CATEGORIES:Prayer Calendar
END:VEVENT
END:VCALENDAR