BEGIN:VCALENDAR
VERSION:2.0
PRODID:-//Prison Fellowship Canada - ECPv6.15.17.1//NONSGML v1.0//EN
CALSCALE:GREGORIAN
METHOD:PUBLISH
X-ORIGINAL-URL:https://prisonfellowship.ca
X-WR-CALDESC:Events for Prison Fellowship Canada
REFRESH-INTERVAL;VALUE=DURATION:PT1H
X-Robots-Tag:noindex
X-PUBLISHED-TTL:PT1H
BEGIN:VTIMEZONE
TZID:UTC
BEGIN:STANDARD
TZOFFSETFROM:+0000
TZOFFSETTO:+0000
TZNAME:UTC
DTSTART:20250101T000000
END:STANDARD
END:VTIMEZONE
BEGIN:VEVENT
DTSTART;VALUE=DATE:20260527
DTEND;VALUE=DATE:20260528
DTSTAMP:20260425T230218
CREATED:20260420T193702Z
LAST-MODIFIED:20260420T193702Z
UID:50153-1779840000-1779926399@prisonfellowship.ca
SUMMARY:Church Engagement
DESCRIPTION:We thank the Lord for the community of church partners across Canada who so diligently labour to serve prisoners\, ex-prisoners and their families. We pray that through this work\, they each find refreshment\, renewal\, and a continued sense of fellowship with God in serving those deeply loved by Him.
URL:https://prisonfellowship.ca/event/church-engagement/
CATEGORIES:Prayer Calendar
END:VEVENT
END:VCALENDAR